BEGIN:VCALENDAR
VERSION:2.0
PRODID:spatie/icalendar-generator
DESCRIPTION:Events from IMPULSA IGUALDAD CyL
X-WR-CALDESC:Events from IMPULSA IGUALDAD CyL
REFRESH-INTERVAL;VALUE=DURATION:PT1440M
X-PUBLISHED-TTL:PT1440M
BEGIN:VTIMEZONE
TZID:Europe/Madrid
BEGIN:DAYLIGHT
DTSTART:20220327T020000Z
TZOFFSETFROM:+0100
TZOFFSETTO:+0200
END:DAYLIGHT
BEGIN:STANDARD
DTSTART:20221030T030000Z
TZOFFSETFROM:+0200
TZOFFSETTO:+0100
END:STANDARD
BEGIN:DAYLIGHT
DTSTART:20230326T020000Z
TZOFFSETFROM:+0100
TZOFFSETTO:+0200
END:DAYLIGHT
END:VTIMEZONE
BEGIN:VTIMEZONE
TZID:UTC
BEGIN:STANDARD
DTSTART:20250726T171413Z
TZOFFSETFROM:+0000
TZOFFSETTO:+0000
END:STANDARD
END:VTIMEZONE
BEGIN:VEVENT
UID:20-17
DTSTAMP:20260422T171413Z
SUMMARY:Curso AP SOTILLO DE LA ADRADA (Ávila)
LOCATION:Sotillo de la Adrada (Ávila)   Sotillo de la Adrada Ávila
ORGANIZER;CN=javacoya:MAILTO:pilarmartinez@aspaymcyl.org
DTSTART;TZID=Europe/Madrid:20221121T080000
DTEND;TZID=Europe/Madrid:20221216T235900
X-ALT-DESC;FMTTYPE=TEXT/HTML:PREDIF Castilla y León ha organizado un nuev
 o curso gratuito de asistencia personal en el medio rural en Sotillo de l
 a Adrada (Ávila)\, con la colaboración de ASPAYM Castilla y León\, la D
 iputación de Ávila y del Ayuntamiento de la localidad. - Acceso directo 
 a la bolsa de empleo - Requisitos: conocimientos de informática nivel usu
 ario Más&amp;hellip\;
CATEGORIES:Cursos
URL;VALUE=URI:https://cyl.impulsaigualdad.org/mc-events/curso-ap-sotillo-de
 -la-adrada-avila/
METHOD:PUBLISH
END:VEVENT
END:VCALENDAR